BEGIN:VCALENDAR
VERSION:2.0
PRODID:-//Tukios.com/
BEGIN:VEVENT
UID:3dfb67b8-6051-4b8a-947c-ce009084588c@www.connerbowman.com
DTSTAMP:20260421T100944Z
DTSTART:20260423T190000Z
DTEND:20260423T200000Z
SUMMARY:Funeral Service
DESCRIPTION:
URL:https://www.connerbowman.com/obituaries/lisa-howell
LOCATION:Conner-Bowman Funeral Home 62 VA Market Place Drive  Rocky Mount 
	VA 24151
GEO:37.0716256;-79.9002067
END:VEVENT
END:VCALENDAR