BEGIN:VCALENDAR
VERSION:2.0
PRODID:-//Tukios.com/
BEGIN:VEVENT
UID:1ce7a965-fcd8-4a3e-8fe0-19c32df06c86@www.connerbowman.com
DTSTAMP:20260421T094805Z
DTSTART:20260423
SUMMARY:Burial
DESCRIPTION:
URL:https://www.connerbowman.com/obituaries/lisa-howell
LOCATION:  Henry Rd  Ferrum VA 24088
GEO:36.8556032;-80.0278943
END:VEVENT
END:VCALENDAR