BEGIN:VCALENDAR
VERSION:2.0
PRODID:-//Tukios.com/
BEGIN:VEVENT
UID:0a999031-370d-43b1-abfe-e5d98ab8bc5f@www.connerbowman.com
DTSTAMP:20260424T190846Z
DTSTART:20260429T153000Z
DTEND:20260429T163000Z
SUMMARY:Graveside Service
DESCRIPTION:
URL:https://www.connerbowman.com/obituaries/wp-waters
LOCATION:Winter Beach Cemetery Cemetery Road  Winter Beach FL 32967
GEO:27.7208802;-80.4312696
END:VEVENT
END:VCALENDAR